BEGIN:VCALENDAR
VERSION:2.0
PRODID:-//InfoGrad//Afisha//EN
CALSCALE:GREGORIAN
METHOD:PUBLISH
BEGIN:VEVENT
UID:film-avo-nosi-pradu-2-41@infograd.me
DTSTART:20260519T180000Z
DTEND:20260519T200000Z
SUMMARY:The Devil Wears Prada 2
DESCRIPTION:The sequel follows Runway magazine's editor-in-chief Miranda Priestly as she attempts to navigate a world in which print journalism is dying. Her former\, young assistant Emily Charlton is now an influential executive at a powerful advertising conglomerate\, and Priestly desperately needs the money.\n
URL:https://infograd.me/hn/en/afisha/film-avo-nosi-pradu-2/
LOCATION:Dvorana Park\, Dvorana Park\, Njegoševa bb\, 85340\, Herceg Novi Crna Gora
END:VEVENT
END:VCALENDAR
