BEGIN:VCALENDAR
VERSION:2.0
PRODID:-//InfoGrad//Afisha//EN
CALSCALE:GREGORIAN
METHOD:PUBLISH
BEGIN:VEVENT
UID:film-hajdi-i-mali-ris-42@infograd.me
DTSTART:20260519T160000Z
DTEND:20260519T180000Z
SUMMARY:HEIDI - Die Legende vom Luchs
DESCRIPTION:An adventure about courage\, friendship and love for nature. In the heart of the Swiss Alps\, a playful girl enjoys a carefree life with her somewhat strict but well-meaning grandfather\, surrounded by pastures and magnificent mountain peaks.\n\n\n\nTechnical Details:\nGenre: Animated\nDuration: 79 min
URL:https://infograd.me/hn/en/afisha/film-hajdi-i-mali-ris/
LOCATION:Dvorana Park\, Dvorana Park\, Njegoševa bb\, 85340\, Herceg Novi Crna Gora
END:VEVENT
END:VCALENDAR
