BEGIN:VCALENDAR
VERSION:2.0
PRODID:-//InfoGrad//Afisha//EN
CALSCALE:GREGORIAN
METHOD:PUBLISH
BEGIN:VEVENT
UID:film-ovce-detektivi-40@infograd.me
DTSTART:20260520T160000Z
DTEND:20260520T180000Z
SUMMARY:The Sheep Detectives
DESCRIPTION:Sheep Detectives is a family crime-mystery that follows shepherd George Hardy\, who adores his sheep and reads them detective stories every evening. George doesn't know that his sheep not only understand every complex twist\, but also spend hours discussing cases.\n\n\n\n\nGenre: Family\nDuration: 109
URL:https://infograd.me/hn/en/afisha/film-ovce-detektivi/
LOCATION:Dvorana Park\, Dvorana Park\, Njegoševa bb\, 85340\, Herceg Novi Crna Gora
END:VEVENT
END:VCALENDAR
