BEGIN:VCALENDAR
VERSION:2.0
PRODID:-//InfoGrad//Afisha//EN
CALSCALE:GREGORIAN
METHOD:PUBLISH
BEGIN:VEVENT
UID:film-siva-zona-39@infograd.me
DTSTART:20260520T180000Z
DTEND:20260520T200000Z
SUMMARY:Film: "In the Grey"
DESCRIPTION:The plot follows a secret team of elite operatives who operate beyond the public eye – people who are equally skilled at wielding political influence and networks of global power as they are with automatic weapons and destructive explosives.\n\n\n\nGenre: Action\nDuration: 100 min\nDirector: Guy Rit
URL:https://infograd.me/hn/en/afisha/film-siva-zona/
LOCATION:Dvorana Park\, Dvorana Park\, Njegoševa bb\, 85340\, Herceg Novi Crna Gora
END:VEVENT
END:VCALENDAR
