BEGIN:VCALENDAR
VERSION:2.0
PRODID:-//InfoGrad//Afisha//EN
CALSCALE:GREGORIAN
METHOD:PUBLISH
BEGIN:VEVENT
UID:film-zetva-43@infograd.me
DTSTART:20260505T180000Z
DTEND:20260505T200000Z
SUMMARY:Žetva (Harvest)
DESCRIPTION:The film is based on the novel "Serbian Heart of Johann"\, inspired by true events. It follows the story of German baron Johann von Wagner\, who after an illegal heart transplant begins to have disturbing dreams and visions.\n\nBasic Information\n\nGenre: Drama\nDuration: 120 minutes\nDirector: Paul K
URL:https://infograd.me/hn/en/afisha/film-zetva/
LOCATION:Dvorana Park\, Dvorana Park\, Njegoševa bb\, 85340\, Herceg Novi Crna Gora
END:VEVENT
END:VCALENDAR
