BEGIN:VCALENDAR
VERSION:2.0
PRODID:-//InfoGrad//Afisha//EN
CALSCALE:GREGORIAN
METHOD:PUBLISH
BEGIN:VEVENT
UID:me-humanitarni-koncert-klasicne-muzike-en-humanitarian-concert-of-classical-music-ru-36@infograd.me
DTSTART:20260423T180000Z
DTEND:20260423T200000Z
SUMMARY:Humanitarian Concert of Classical Music
DESCRIPTION:Performers:\n\nStevan Tomašević\, baritone\nNikolina Tomašević\, soprano\nAleksandar Bubanja\, guitar\nĐuro Poznanović\, piano\n\n\nAll performers are professors at the Music School in Herceg Novi.\n\n\n\nProgram:\n\nThe concert includes pieces by classical composers Scarlatti\, Mozart\, Bajić and Bizet\, 
URL:https://infograd.me/hn/en/afisha/me-humanitarni-koncert-klasicne-muzike-en-humanitarian-concert-of-classical-music-ru/
LOCATION:Павильон городской музыки
END:VEVENT
END:VCALENDAR
