BEGIN:VCALENDAR
VERSION:2.0
PRODID:-//InfoGrad//Afisha//EN
CALSCALE:GREGORIAN
METHOD:PUBLISH
BEGIN:VEVENT
UID:me-humanitarno-vece-za-pomoc-sugraanima-en-humanitarian-evening-to-help-fellow-citizens-ru-37@infograd.me
DTSTART:20260425T190000Z
DTEND:20260425T210000Z
SUMMARY:Humanitarian evening to help fellow citizens
DESCRIPTION:A humanitarian music evening will be held on Saturday\, April 25 at 9 PM at the pub Got. The goal of the event is to collect aid for Marko Savić and one fellow citizen\, a single mother\, who need financial support in their struggle for health and a dignified life.\n\nDonations will be collected in don
URL:https://infograd.me/hn/en/afisha/me-humanitarno-vece-za-pomoc-sugraanima-en-humanitarian-evening-to-help-fellow-citizens-ru/
LOCATION:Pub Got
END:VEVENT
END:VCALENDAR
