BEGIN:VCALENDAR
VERSION:2.0
PRODID:-//InfoGrad//Afisha//EN
CALSCALE:GREGORIAN
METHOD:PUBLISH
BEGIN:VEVENT
UID:film-avo-nosi-pradu-2-41@infograd.me
DTSTART:20260519T180000Z
DTEND:20260519T200000Z
SUMMARY:ĐAVO NOSI PRADU 2
DESCRIPTION:Nastavak prati glavnu urednicu časopisa 'Runway' Mirandu Pristli dok pokušava da se snađe u svijetu u kojem štampano novinarstvo izumire. Njena bivša\, mlada asistentkinja Emili Čarlton sada je uticajni rukovodilac u moćnoj grupaciji za oglašavanje\, a Pristlijevoj je novac očajnički potreban.\n\n\n\n
URL:https://infograd.me/hn/me/afisha/film-avo-nosi-pradu-2/
LOCATION:Dvorana Park\, Dvorana Park\, Njegoševa bb\, 85340\, Herceg Novi Crna Gora
END:VEVENT
END:VCALENDAR
