BEGIN:VCALENDAR
VERSION:2.0
PRODID:-//InfoGrad//Afisha//EN
CALSCALE:GREGORIAN
METHOD:PUBLISH
BEGIN:VEVENT
UID:film-hajdi-i-mali-ris-42@infograd.me
DTSTART:20260519T160000Z
DTEND:20260519T180000Z
SUMMARY:Hajdi i mali ris
DESCRIPTION:Avantura o hrabrosti\, prijateljstvu i ljubavi prema prirodi. U srcu švajcarskih Alpa razigrana djevojčica uživa u bezbrižnom životu sa svojim pomalo strogim\, ali dobronamjernim djedom\, okružena pašnjacima i veličanstvenim planinskim vrhovima.\n\n\n\nTehnički detalji:\nŽanr: Animirani\nTrajanje: 79 m
URL:https://infograd.me/hn/me/afisha/film-hajdi-i-mali-ris/
LOCATION:Двoрана Парк\, Dvorana Park\, Njegoševa bb\, 85340\, Herceg Novi Crna Gora
END:VEVENT
END:VCALENDAR
