BEGIN:VCALENDAR
VERSION:2.0
PRODID:-//InfoGrad//Afisha//EN
CALSCALE:GREGORIAN
METHOD:PUBLISH
BEGIN:VEVENT
UID:film-ovce-detektivi-40@infograd.me
DTSTART:20260520T160000Z
DTEND:20260520T180000Z
SUMMARY:Ovce Detektivi
DESCRIPTION:Ovce Detektivi je porodična krimi-misterija koja prati pastira Džordža Hardija\, koji obožava svoje ovce i svake večeri im čita kriminalističke priče. Džordž ne zna da njegove ovce ne samo da razumiju svaku složenu zavrzlamu\, već i satima raspravljaju o slučajevima.\n\n\n\n\nŽanr: Porodični\nTrajanje
URL:https://infograd.me/hn/me/afisha/film-ovce-detektivi/
LOCATION:Двoрана Парк\, Dvorana Park\, Njegoševa bb\, 85340\, Herceg Novi Crna Gora
END:VEVENT
END:VCALENDAR
