BEGIN:VCALENDAR
VERSION:2.0
PRODID:-//InfoGrad//Afisha//EN
CALSCALE:GREGORIAN
METHOD:PUBLISH
BEGIN:VEVENT
UID:film-siva-zona-39@infograd.me
DTSTART:20260520T180000Z
DTEND:20260520T200000Z
SUMMARY:Film: "Siva zona"
DESCRIPTION:Radnja prati tajni tim elitnih operativaca koji djeluju van očiju javnosti – ljudi koji jednako vješto upravljaju političkim uticajem i mrežama globalne moći kao i automatskim oružjem i razornim eksplozivima.\n\n\n\nŽanr: Akcija\nTrajanje: 100 min\nRežija: Guy Ritchie\nGlumci:\n\nHenry Cavill\nRosam
URL:https://infograd.me/hn/me/afisha/film-siva-zona/
LOCATION:Dvorana Park\, Dvorana Park\, Njegoševa bb\, 85340\, Herceg Novi Crna Gora
END:VEVENT
END:VCALENDAR
