BEGIN:VCALENDAR
VERSION:2.0
PRODID:-//InfoGrad//Afisha//EN
CALSCALE:GREGORIAN
METHOD:PUBLISH
BEGIN:VEVENT
UID:me-humanitarni-koncert-klasicne-muzike-en-humanitarian-concert-of-classical-music-ru-36@infograd.me
DTSTART:20260423T180000Z
DTEND:20260423T200000Z
SUMMARY:Humanitarni koncert klasične muzike
DESCRIPTION:Nastupaće:\n\nStevan Tomašević\, bariton\nNikolina Tomašević\, sopran\nAleksandar Bubanja\, gitara\nĐuro Poznanović\, pijano\n\n\nSvi nastupaču su profesori Muzičke škole u Herceg Novom.\n\n\n\nProgram:\n\nKoncert uključuje dijelove klasičnih kompozitora Skarlatija\, Mocarta\, Bajića i Bizea\, kao i popula
URL:https://infograd.me/hn/me/afisha/me-humanitarni-koncert-klasicne-muzike-en-humanitarian-concert-of-classical-music-ru/
LOCATION:City Music Pavilion
END:VEVENT
END:VCALENDAR
