BEGIN:VCALENDAR
VERSION:2.0
PRODID:-//InfoGrad//Afisha//EN
CALSCALE:GREGORIAN
METHOD:PUBLISH
BEGIN:VEVENT
UID:me-humanitarno-vece-za-pomoc-sugraanima-en-humanitarian-evening-to-help-fellow-citizens-ru-37@infograd.me
DTSTART:20260425T190000Z
DTEND:20260425T210000Z
SUMMARY:Humanitarno veče za pomoć sugrađanima
DESCRIPTION:Humanitarno muzičko veče biće održano u subotu\, 25. aprila u 21 sat u pabu Got. Cilj događaja je prikupljanje pomoći za Marka Savića i jednu sugrađanku\, samohranog majku\, kojima je potrebna finansijska podrška u borbi za zdravlje i dostojanstven život.\n\nDonacije će se sakupljati u donatorskim kuti
URL:https://infograd.me/hn/me/afisha/me-humanitarno-vece-za-pomoc-sugraanima-en-humanitarian-evening-to-help-fellow-citizens-ru/
LOCATION:Pub Got
END:VEVENT
END:VCALENDAR
