BEGIN:VCALENDAR
VERSION:2.0
PRODID:-//InfoGrad//Afisha//EN
CALSCALE:GREGORIAN
METHOD:PUBLISH
BEGIN:VEVENT
UID:me-muzicki-kolaz-en-musical-collage-ru-21@infograd.me
DTSTART:20260426T160000Z
DTEND:20260426T180000Z
SUMMARY:Muzički kolaž
DESCRIPTION:U programu učestvuju:\nVokalni ansambl «Boka Voices»\nSolisti (vokal i instrumenti)\nMladi talenti\nUmjetnički rukovodilac: Ana Barsova\nLokalne narodne pjesme i neke druge\, savremenije.
URL:https://infograd.me/hn/me/afisha/me-muzicki-kolaz-en-musical-collage-ru/
LOCATION:Павильон городской музыки
END:VEVENT
END:VCALENDAR
