BEGIN:VCALENDAR
VERSION:2.0
PRODID:-//InfoGrad//Afisha//EN
CALSCALE:GREGORIAN
METHOD:PUBLISH
BEGIN:VEVENT
UID:me-predstava-klaustrofobicna-komedia-en-performance-claustrophobic-comedy-ru-klaustrofobicna-komedia-34@infograd.me
DTSTART:20260513T180000Z
DTEND:20260513T200000Z
SUMMARY:Predstava: "Klaustrofobična komedia"
DESCRIPTION:Zvezdara Teatar\n\n\n\nOsnovna imena:\nPisac: Dušan Kovačević\nReditelj: Darko Bajić\n\nGluma:\n\nLjubomir Bandović\, Sava Odžačar\nNevena Vukes / Anja Pavićević\, Nina Herbert\nMarko Janketić / Stefan Trifunović\, Vule\, milicioner\nZoran Cvijanović / Stefan Trifunović\, Jagoša Kraj\nSlavko Štimac\, Teja
URL:https://infograd.me/hn/me/afisha/me-predstava-klaustrofobicna-komedia-en-performance-claustrophobic-comedy-ru-klaustrofobicna-komedia/
LOCATION:Dvorana Park\, Dvorana Park\, Njegoševa bb\, 85340\, Herceg Novi Crna Gora
END:VEVENT
END:VCALENDAR
