BEGIN:VCALENDAR
VERSION:2.0
PRODID:-//InfoGrad//Afisha//EN
CALSCALE:GREGORIAN
METHOD:PUBLISH
BEGIN:VEVENT
UID:me-ukrainiada-en-ukrainiada-ru-ukrainiada-38@infograd.me
DTSTART:20260425T110000Z
DTEND:20260425T190000Z
SUMMARY:Ukrainiada
DESCRIPTION:5. godišnjica Ukrajinijade\n\nDatum i vreme: 25. aprila\, od 13:00 do 21:00\n\nProgram i aktivnosti:\n\nKoncertni program sa karaoke afterpartijem\nUkrajinski obroci i slatkiši\nPića i bar sa koktelima\nZanatsko pivo i sušeno meso\nSuveniri za odrasle i decu\nDetska zabava\nPatriotska foto zona\nKrea
URL:https://infograd.me/hn/me/afisha/me-ukrainiada-en-ukrainiada-ru-ukrainiada/
LOCATION:Fanfani Resort
END:VEVENT
END:VCALENDAR
