BEGIN:VCALENDAR
VERSION:2.0
PRODID:-//InfoGrad//Afisha//EN
CALSCALE:GREGORIAN
METHOD:PUBLISH
BEGIN:VEVENT
UID:film-avo-nosi-pradu-2-41@infograd.me
DTSTART:20260519T180000Z
DTEND:20260519T200000Z
SUMMARY:Дьявол носит Prada 2
DESCRIPTION:Продолжение следует главному редактору журнала 'Runway' Миранде Пристли\, пока она пытается ориентироваться в мире\, в котором печатная журналистика умирает. Её бывшая\, молодая ассистентка Emili Čarlton теперь является влиятельным руководителем в мощной рекламной группе\, а Пристли отчаянно нужны деньг
URL:https://infograd.me/hn/ru/afisha/film-avo-nosi-pradu-2/
LOCATION:Dvorana Park\, Dvorana Park\, Njegoševa bb\, 85340\, Herceg Novi Crna Gora
END:VEVENT
END:VCALENDAR
