BEGIN:VCALENDAR
VERSION:2.0
PRODID:-//InfoGrad//Afisha//EN
CALSCALE:GREGORIAN
METHOD:PUBLISH
BEGIN:VEVENT
UID:film-siva-zona-39@infograd.me
DTSTART:20260520T180000Z
DTEND:20260520T200000Z
SUMMARY:Фильм: "In the Grey"
DESCRIPTION:Сюжет следит за секретной группой элитных оперативов\, действующих вне поля зрения общественности – людей\, которые одинаково искусно управляют политическим влиянием и сетями глобальной власти\, а также автоматическим оружием и разрушительными взрывчатыми веществами.\n\n\n\nЖанр: Боевик\nПродолжительно
URL:https://infograd.me/hn/ru/afisha/film-siva-zona/
LOCATION:Dvorana Park\, Dvorana Park\, Njegoševa bb\, 85340\, Herceg Novi Crna Gora
END:VEVENT
END:VCALENDAR
