BEGIN:VCALENDAR
VERSION:2.0
PRODID:-//InfoGrad//Afisha//EN
CALSCALE:GREGORIAN
METHOD:PUBLISH
BEGIN:VEVENT
UID:me-humanitarni-koncert-klasicne-muzike-en-humanitarian-concert-of-classical-music-ru-36@infograd.me
DTSTART:20260423T180000Z
DTEND:20260423T200000Z
SUMMARY:Благотворительный концерт классической музики
DESCRIPTION:Будут выступать:\n\nStevan Tomašević\, баритон\nNikolina Tomašević\, сопрано\nAleksandar Bubanja\, гитара\nĐuro Poznanović\, фортепиано\n\n\nВсе участники концерта — профессора музыкальной школы в Херцег Нови.\n\n\n\nПрограмма:\n\nКонцерт включает произведения классических композиторов Скарлатти\, Моцарт
URL:https://infograd.me/hn/ru/afisha/me-humanitarni-koncert-klasicne-muzike-en-humanitarian-concert-of-classical-music-ru/
LOCATION:Paviljon Gradske muzike
END:VEVENT
END:VCALENDAR
