BEGIN:VCALENDAR
VERSION:2.0
PRODID:-//InfoGrad//Afisha//EN
CALSCALE:GREGORIAN
METHOD:PUBLISH
BEGIN:VEVENT
UID:me-humanitarno-vece-za-pomoc-sugraanima-en-humanitarian-evening-to-help-fellow-citizens-ru-37@infograd.me
DTSTART:20260425T190000Z
DTEND:20260425T210000Z
SUMMARY:Благотворительный вечер в помощь согражданам
DESCRIPTION:Благотворительный музыкальный вечер состоится в субботу\, 25 апреля в 21:00 в баре Got. Цель мероприятия — сбор помощи для Marko Savića и одной жительницы\, матери-одиночки\, которым необходима финансовая поддержка в борьбе за здоровье и достойную жизнь.\n\nПожертвования будут собираться в благотворите
URL:https://infograd.me/hn/ru/afisha/me-humanitarno-vece-za-pomoc-sugraanima-en-humanitarian-evening-to-help-fellow-citizens-ru/
LOCATION:Pub Got
END:VEVENT
END:VCALENDAR
