BEGIN:VCALENDAR
VERSION:2.0
PRODID:-//InfoGrad//Afisha//EN
CALSCALE:GREGORIAN
METHOD:PUBLISH
BEGIN:VEVENT
UID:me-novski-djeciji-duatlon-2026-en-novski-djeciji-duatlon-2026-ru-novski-djeciji-duatlon-2026-30@infograd.me
DTSTART:20260510T080000Z
DTEND:20260510T100000Z
SUMMARY:Novski Dječiji Duatlon 2026
DESCRIPTION:2-й круг Coinis триатлонной лиги для детей\n\nМесто проведения\nHerceg Novi – между Титовой виллой и набережной Obala Nikole Kovačevića\n\nФормат соревнований\nДуатлон состоит из трёх дисциплин:\n\nБег 1\nВелосипедная гонка\nБег 2\n\n\nВозрастные категории и дистанции:\n\n7–9 лет: 400м – 2км – 200м
URL:https://infograd.me/hn/ru/afisha/me-novski-djeciji-duatlon-2026-en-novski-djeciji-duatlon-2026-ru-novski-djeciji-duatlon-2026/
LOCATION:Парк Игало
END:VEVENT
END:VCALENDAR
