BEGIN:VCALENDAR
VERSION:2.0
PRODID:-//InfoGrad//Afisha//EN
CALSCALE:GREGORIAN
METHOD:PUBLISH
BEGIN:VEVENT
UID:me-spring-reset-outdoor-funkcionalni-trening-en-spring-reset-outdoor-funkcionalni-trening-ru-spring-reset-outdoor-funkcionalni-trening-31@infograd.me
DTSTART:20260501T170000Z
DTEND:20260501T175500Z
SUMMARY:Spring Reset
DESCRIPTION:Серия событий „Spring Reset" проводится в Портонови с 1 по 3 мая.\n\n\n\nПятница\, 1 мая – Функциональный тренинг\nВремя: 19:00\nМесто: Вертолётная площадка Портонови\nПродолжительность: 55 минут\nИнструктор: Filip (инструкции на английском языке)\nВход: бесплатный\nМаксимальное количество участников
URL:https://infograd.me/hn/ru/afisha/me-spring-reset-outdoor-funkcionalni-trening-en-spring-reset-outdoor-funkcionalni-trening-ru-spring-reset-outdoor-funkcionalni-trening/
LOCATION:Portonovi Helipad
END:VEVENT
BEGIN:VEVENT
UID:me-spring-reset-outdoor-funkcionalni-trening-en-spring-reset-outdoor-funkcionalni-trening-ru-spring-reset-outdoor-funkcionalni-trening-32@infograd.me
DTSTART:20260502T170000Z
DTEND:20260502T180000Z
SUMMARY:Spring Reset
DESCRIPTION:Серия событий „Spring Reset" проводится в Портонови с 1 по 3 мая.\n\n\n\nПятница\, 1 мая – Функциональный тренинг\nВремя: 19:00\nМесто: Вертолётная площадка Портонови\nПродолжительность: 55 минут\nИнструктор: Filip (инструкции на английском языке)\nВход: бесплатный\nМаксимальное количество участников
URL:https://infograd.me/hn/ru/afisha/me-spring-reset-outdoor-funkcionalni-trening-en-spring-reset-outdoor-funkcionalni-trening-ru-spring-reset-outdoor-funkcionalni-trening/
LOCATION:Portonovi Helipad
END:VEVENT
BEGIN:VEVENT
UID:me-spring-reset-outdoor-funkcionalni-trening-en-spring-reset-outdoor-funkcionalni-trening-ru-spring-reset-outdoor-funkcionalni-trening-33@infograd.me
DTSTART:20260503T170000Z
DTEND:20260503T174000Z
SUMMARY:Spring Reset
DESCRIPTION:Серия событий „Spring Reset" проводится в Портонови с 1 по 3 мая.\n\n\n\nПятница\, 1 мая – Функциональный тренинг\nВремя: 19:00\nМесто: Вертолётная площадка Портонови\nПродолжительность: 55 минут\nИнструктор: Filip (инструкции на английском языке)\nВход: бесплатный\nМаксимальное количество участников
URL:https://infograd.me/hn/ru/afisha/me-spring-reset-outdoor-funkcionalni-trening-en-spring-reset-outdoor-funkcionalni-trening-ru-spring-reset-outdoor-funkcionalni-trening/
LOCATION:Portonovi Helipad
END:VEVENT
END:VCALENDAR
