BEGIN:VCALENDAR
VERSION:2.0
PRODID:-//InfoGrad//Afisha//EN
CALSCALE:GREGORIAN
METHOD:PUBLISH
BEGIN:VEVENT
UID:me-urban-downhill-herceg-novi-en-urban-downhill-herceg-novi-ru-urban-downhill-herceg-novi-27@infograd.me
DTSTART:20260522T160000Z
DTEND:20260522T180000Z
SUMMARY:Urban Downhill Herceg Novi
DESCRIPTION:Urban Downhill Herceg Novi — это трёхдневный MTB уикенд в рамках Wind Festa 2026. Программа объединяет городской даунхилл\, показательную эндуро гонку и расслабленную community программу.\n\nЦентральное событие — гонка по трассе\, которая использует подлинный характер города – лестницы\, проходы\, камен
URL:https://infograd.me/hn/ru/afisha/me-urban-downhill-herceg-novi-en-urban-downhill-herceg-novi-ru-urban-downhill-herceg-novi/
END:VEVENT
BEGIN:VEVENT
UID:me-urban-downhill-herceg-novi-en-urban-downhill-herceg-novi-ru-urban-downhill-herceg-novi-28@infograd.me
DTSTART:20260523T080000Z
DTEND:20260523T100000Z
SUMMARY:Urban Downhill Herceg Novi
DESCRIPTION:Urban Downhill Herceg Novi — это трёхдневный MTB уикенд в рамках Wind Festa 2026. Программа объединяет городской даунхилл\, показательную эндуро гонку и расслабленную community программу.\n\nЦентральное событие — гонка по трассе\, которая использует подлинный характер города – лестницы\, проходы\, камен
URL:https://infograd.me/hn/ru/afisha/me-urban-downhill-herceg-novi-en-urban-downhill-herceg-novi-ru-urban-downhill-herceg-novi/
END:VEVENT
BEGIN:VEVENT
UID:me-urban-downhill-herceg-novi-en-urban-downhill-herceg-novi-ru-urban-downhill-herceg-novi-29@infograd.me
DTSTART:20260524T070000Z
DTEND:20260524T090000Z
SUMMARY:Urban Downhill Herceg Novi
DESCRIPTION:Urban Downhill Herceg Novi — это трёхдневный MTB уикенд в рамках Wind Festa 2026. Программа объединяет городской даунхилл\, показательную эндуро гонку и расслабленную community программу.\n\nЦентральное событие — гонка по трассе\, которая использует подлинный характер города – лестницы\, проходы\, камен
URL:https://infograd.me/hn/ru/afisha/me-urban-downhill-herceg-novi-en-urban-downhill-herceg-novi-ru-urban-downhill-herceg-novi/
END:VEVENT
END:VCALENDAR
